BEGIN:VCALENDAR
VERSION:2.0
PRODID:icalendar-ruby
CALSCALE:GREGORIAN
METHOD:PUBLISH
BEGIN:VEVENT
DTSTAMP:20260422T193204Z
UID:15-766244@livingsprings.tithelysetup5.com
DTSTART:20261101T134500Z
DTEND:20261101T150000Z
CLASS:PUBLIC
CREATED:20260422T140108
DESCRIPTION:
LAST-MODIFIED:20260422T140108
LOCATION:3010 S Sumter Blvd\, North Port\, FL\, 34287
SUMMARY:Sunday Worship
URL;VALUE=URI:https://livingspringscalvary.com/events/sunday-worship/2026-1
 1-01
ATTACH;FILENAME=newchurch.jpg;FMTTYPE=image/jpeg:https://dq5pwpg1q8ru0.clou
 dfront.net/2026/02/11/15/04/04/e17eb517-9a26-4507-b480-75db5dcfffbe/newchu
 rch.jpg
END:VEVENT
END:VCALENDAR
